BEGIN:VCALENDAR
VERSION:2.0
PRODID:-//eventon.com NONSGML v1.0//EN
CALSCALE:GREGORIAN
METHOD:PUBLISH
BEGIN:VEVENT
UID:69e7b58552564
DTSTAMP:20260421T173605Z
DTSTART:20260416T173000Z
DTEND:20260416T200000Z
LOCATION:Burke Museum of Natural History 4303 Memorial Way NE
SUMMARY:Joint SGC and TGC lunch in Seattle at the Burke Museum of Natural History
DESCRIPTION:Cost is $73\,  including processing fee (but does not include p
 arking fee). The Tacoma Garden Club is invited to join the Seattle Garden C
 lub at our annual Joint Luncheon on Thursday\,  April 16\,  2026\,  at the 
 Burke Museum of Natural History. (Contact Karen McGrath\,  if you are inter
 ested in carpooling.)[..]\nhttps://tacomagardenclub.org/events/joint-sgc-an
 d-tgc-lunch-in-seattle-at-the-burke-museum-of-natural-history/
URL:https://tacomagardenclub.org/events/joint-sgc-and-tgc-lunch-in-seattle-at-the-burke-museum-of-natural-history/
END:VEVENT
END:VCALENDAR