BEGIN:VCALENDAR
VERSION:2.0
PRODID:-//eventon.com NONSGML v1.0//EN
CALSCALE:GREGORIAN
METHOD:PUBLISH
BEGIN:VEVENT
UID:69e74b987bc60
DTSTAMP:20260421T100408Z
DTSTART:20251210T220000Z
DTEND:20251211T000000Z
LOCATION:
SUMMARY:Holiday Tea
DESCRIPTION:Join us at Amy Brown&#8217;s home where we gather to celebrate 
 the season with all of our members. RSVP required. Please find Amy&#8217;s 
 address in our member directory.\nhttps://tacomagardenclub.org/events/holid
 ay-tea/
URL:https://tacomagardenclub.org/events/holiday-tea/
END:VEVENT
END:VCALENDAR