BEGIN:VCALENDAR
VERSION:2.0
PRODID:-//eventon.com NONSGML v1.0//EN
CALSCALE:GREGORIAN
METHOD:PUBLISH
BEGIN:VEVENT
UID:69e74b987acec
DTSTAMP:20260421T100408Z
DTSTART:20260610T173000Z
DTEND:20260610T200000Z
LOCATION:Tacoma Country and Golf Club 13204 Country Club Drive SW\,  Lakewood\,  WA 98498
SUMMARY:Tacoma Garden Club Annual Lunch\,  Awards and Recognition:  “It’s My Nature”
DESCRIPTION:Tickets are $48.50 (including processing fee) This is a fun and
  important meeting to catch up with your TGC friends\,  meet your new board
  members for the coming year\,  introduce New Members and announce membersh
 ip changes. Most importantly we will recognize several of our TGC members f
 or their outstanding contributions[..]\nhttps://tacomagardenclub.org/events
 /annual-meeting/
URL:https://tacomagardenclub.org/events/annual-meeting/
END:VEVENT
END:VCALENDAR