BEGIN:VCALENDAR
VERSION:2.0
PRODID:-//eventon.com NONSGML v1.0//EN
CALSCALE:GREGORIAN
METHOD:PUBLISH
BEGIN:VEVENT
UID:69e787c241bac
DTSTAMP:20260421T142050Z
DTSTART:20260401T170000Z
DTEND:20260401T190000Z
LOCATION:
SUMMARY:TGC Board via Zoom
DESCRIPTION:A Zoom link will be sent to all members by 9:30 a.m. on April 1
 \,  2025.\nhttps://tacomagardenclub.org/events/tgc-board-via-zoom-3/
URL:https://tacomagardenclub.org/events/tgc-board-via-zoom-3/
END:VEVENT
END:VCALENDAR