BEGIN:VCALENDAR
VERSION:2.0
PRODID:-//eventon.com NONSGML v1.0//EN
CALSCALE:GREGORIAN
METHOD:PUBLISH
BEGIN:VEVENT
UID:69e789d8b2137
DTSTAMP:20260421T142944Z
DTSTART:20260506T170000Z
DTEND:20260506T190000Z
LOCATION:Tacoma Country and Golf Club 13204 Country Club Drive SW\,  Lakewood\,  WA 98498
SUMMARY:TGC Board
DESCRIPTION:Social begins at 9:30 a.m. Agenda will be sent in advance.\nhtt
 ps://tacomagardenclub.org/events/tgc-board-4/
URL:https://tacomagardenclub.org/events/tgc-board-4/
END:VEVENT
END:VCALENDAR