BEGIN:VCALENDAR
VERSION:2.0
PRODID:-//eventon.com NONSGML v1.0//EN
CALSCALE:GREGORIAN
METHOD:PUBLISH
BEGIN:VEVENT
UID:69e7972d909e2
DTSTAMP:20260421T152637Z
DTSTART:20260603T163000Z
DTEND:20260603T190000Z
LOCATION:Tacoma Country and Golf Club 13204 Country Club Drive SW\,  Lakewood\,  WA 98498
SUMMARY:TGC Board with Celebratory Brunch
DESCRIPTION:All 2025-2026 board members will be joined by our 2026-2027 boa
 rd members at this celebration of our work together. Social begins at 9:30 
 a.m.\,  followed by our board meeting and brunch. Tickets available closer 
 to event date.\nhttps://tacomagardenclub.org/events/tgc-board-with-celebrat
 ory-brunch/
URL:https://tacomagardenclub.org/events/tgc-board-with-celebratory-brunch/
END:VEVENT
END:VCALENDAR